BEGIN:VCALENDAR
VERSION:2.0
PRODID:-//Musikverein Wannweil - ECPv6.15.20//NONSGML v1.0//EN
CALSCALE:GREGORIAN
METHOD:PUBLISH
X-WR-CALNAME:Musikverein Wannweil
X-ORIGINAL-URL:https://musikverein-wannweil.de
X-WR-CALDESC:Veranstaltungen für Musikverein Wannweil
REFRESH-INTERVAL;VALUE=DURATION:PT1H
X-Robots-Tag:noindex
X-PUBLISHED-TTL:PT1H
BEGIN:VTIMEZONE
TZID:Europe/Berlin
BEGIN:DAYLIGHT
TZOFFSETFROM:+0100
TZOFFSETTO:+0200
TZNAME:CEST
DTSTART:20220327T010000
END:DAYLIGHT
BEGIN:STANDARD
TZOFFSETFROM:+0200
TZOFFSETTO:+0100
TZNAME:CET
DTSTART:20221030T010000
END:STANDARD
BEGIN:DAYLIGHT
TZOFFSETFROM:+0100
TZOFFSETTO:+0200
TZNAME:CEST
DTSTART:20230326T010000
END:DAYLIGHT
BEGIN:STANDARD
TZOFFSETFROM:+0200
TZOFFSETTO:+0100
TZNAME:CET
DTSTART:20231029T010000
END:STANDARD
BEGIN:DAYLIGHT
TZOFFSETFROM:+0100
TZOFFSETTO:+0200
TZNAME:CEST
DTSTART:20240331T010000
END:DAYLIGHT
BEGIN:STANDARD
TZOFFSETFROM:+0200
TZOFFSETTO:+0100
TZNAME:CET
DTSTART:20241027T010000
END:STANDARD
END:VTIMEZONE
BEGIN:VEVENT
DTSTART;TZID=Europe/Berlin:20231125T130000
DTEND;TZID=Europe/Berlin:20231125T150000
DTSTAMP:20260424T094221
CREATED:20231020T202418Z
LAST-MODIFIED:20231105T212908Z
UID:1022-1700917200-1700924400@musikverein-wannweil.de
SUMMARY:Zusatzprobe Vorstufenorchester
DESCRIPTION:
URL:https://musikverein-wannweil.de/event/zusatzprobe/
LOCATION:Musikerheim\, Eisenbahnstraße 5\, Wannweil\, 72827\, Deutschland
CATEGORIES:Vorstufenorchester
END:VEVENT
BEGIN:VEVENT
DTSTART;TZID=Europe/Berlin:20231125T150000
DTEND;TZID=Europe/Berlin:20231125T163000
DTSTAMP:20260424T094221
CREATED:20231020T181554Z
LAST-MODIFIED:20231105T212903Z
UID:963-1700924400-1700929800@musikverein-wannweil.de
SUMMARY:Flötis - Gesamtprobe
DESCRIPTION:
URL:https://musikverein-wannweil.de/event/floetis-gesamtprobe/
LOCATION:Musikerheim\, Eisenbahnstraße 5\, Wannweil\, 72827\, Deutschland
CATEGORIES:Flötis
END:VEVENT
BEGIN:VEVENT
DTSTART;TZID=Europe/Berlin:20231126T090000
DTEND;TZID=Europe/Berlin:20231126T160000
DTSTAMP:20260424T094221
CREATED:20231020T181756Z
LAST-MODIFIED:20231105T212859Z
UID:965-1700989200-1701014400@musikverein-wannweil.de
SUMMARY:Probesonntag JoWa & Stammorchester
DESCRIPTION:
URL:https://musikverein-wannweil.de/event/probesonntag/
LOCATION:Musikerheim\, Eisenbahnstraße 5\, Wannweil\, 72827\, Deutschland
CATEGORIES:JoWa,Stammorchester
END:VEVENT
END:VCALENDAR