BEGIN:VCALENDAR
VERSION:2.0
PRODID:-//Musikverein Wannweil - ECPv6.15.20//NONSGML v1.0//EN
CALSCALE:GREGORIAN
METHOD:PUBLISH
X-ORIGINAL-URL:https://musikverein-wannweil.de
X-WR-CALDESC:Veranstaltungen für Musikverein Wannweil
REFRESH-INTERVAL;VALUE=DURATION:PT1H
X-Robots-Tag:noindex
X-PUBLISHED-TTL:PT1H
BEGIN:VTIMEZONE
TZID:Europe/Berlin
BEGIN:DAYLIGHT
TZOFFSETFROM:+0100
TZOFFSETTO:+0200
TZNAME:CEST
DTSTART:20240331T010000
END:DAYLIGHT
BEGIN:STANDARD
TZOFFSETFROM:+0200
TZOFFSETTO:+0100
TZNAME:CET
DTSTART:20241027T010000
END:STANDARD
BEGIN:DAYLIGHT
TZOFFSETFROM:+0100
TZOFFSETTO:+0200
TZNAME:CEST
DTSTART:20250330T010000
END:DAYLIGHT
BEGIN:STANDARD
TZOFFSETFROM:+0200
TZOFFSETTO:+0100
TZNAME:CET
DTSTART:20251026T010000
END:STANDARD
BEGIN:DAYLIGHT
TZOFFSETFROM:+0100
TZOFFSETTO:+0200
TZNAME:CEST
DTSTART:20260329T010000
END:DAYLIGHT
BEGIN:STANDARD
TZOFFSETFROM:+0200
TZOFFSETTO:+0100
TZNAME:CET
DTSTART:20261025T010000
END:STANDARD
END:VTIMEZONE
BEGIN:VEVENT
DTSTART;TZID=Europe/Berlin:20250406T140000
DTEND;TZID=Europe/Berlin:20250406T153000
DTSTAMP:20260422T133528
CREATED:20250211T110235Z
LAST-MODIFIED:20250211T110235Z
UID:1715-1743948000-1743953400@musikverein-wannweil.de
SUMMARY:Kinderkonzert
DESCRIPTION:
URL:https://musikverein-wannweil.de/event/kinderkonzert-2025/
LOCATION:Gemeindehaus\, Einfahrtstraße 9\, Wannweil\, 72827
CATEGORIES:Flötis
END:VEVENT
END:VCALENDAR